BEGIN:VCALENDAR
VERSION:2.0
PRODID:-//Sabre//Sabre VObject 4.5.8//EN
CALSCALE:GREGORIAN
BEGIN:VEVENT
UID:sabre-vobject-f827fe75-378b-4d09-87a9-039e58621d1f
DTSTAMP:20260425T165554Z
SUMMARY:FC25 Tournament
DESCRIPTION:
X-ALT-DESC:FMTTYPE=text/html:<!DOCTYPE HTML PUBLIC "-//W3C//DTD HTML 3.2//E
 N"><HTML></HTML>
CREATED;TZID=America/Los_Angeles:20250703T164457
URL;VALUE=URI:https://jblm.armymwr.com/calendar/event
DTSTART;TZID=America/Los_Angeles:20250712T140000
DTEND;TZID=America/Los_Angeles:20250712T160000
SEQUENCE:0
END:VEVENT
END:VCALENDAR
