BEGIN:VCALENDAR
VERSION:2.0
PRODID:-//Sabre//Sabre VObject 4.5.8//EN
CALSCALE:GREGORIAN
BEGIN:VEVENT
UID:sabre-vobject-d0dfe352-371d-44c0-b441-13a6583acf58
DTSTAMP:20260424T163622Z
SUMMARY:Music Trivia Night
DESCRIPTION:
X-ALT-DESC:FMTTYPE=text/html:<!DOCTYPE HTML PUBLIC "-//W3C//DTD HTML 3.2//E
 N"><HTML></HTML>
CREATED;TZID=America/Los_Angeles:20250724T104822
URL;VALUE=URI:https://jblm.armymwr.com/calendar/event
DTSTART;TZID=America/Los_Angeles:20250813T190000
DTEND;TZID=America/Los_Angeles:20250813T203000
SEQUENCE:0
END:VEVENT
END:VCALENDAR
