BEGIN:VCALENDAR
VERSION:2.0
PRODID:-//Sabre//Sabre VObject 4.5.8//EN
CALSCALE:GREGORIAN
BEGIN:VEVENT
UID:sabre-vobject-7c340357-9168-47b8-898b-bcc069fca900
DTSTAMP:20260421T203126Z
SUMMARY:CC Indoor Soccer League Registration
DESCRIPTION:Registration extended to Oct. 6!\n
X-ALT-DESC:FMTTYPE=text/html:<!DOCTYPE HTML PUBLIC "-//W3C//DTD HTML 3.2//E
 N"><HTML><p><em><strong>Registration extended to Oct. 6!</strong></em></p>
 \n</HTML>
CREATED;TZID=America/Los_Angeles:20250930T091016
URL;VALUE=URI:https://jblm.armymwr.com/calendar/event
DTSTART;TZID=America/Los_Angeles:20250909T000000
DTEND;TZID=America/Los_Angeles:20250909T235959
SEQUENCE:0
END:VEVENT
END:VCALENDAR
