BEGIN:VCALENDAR
VERSION:2.0
PRODID:-//Sabre//Sabre VObject 4.5.8//EN
CALSCALE:GREGORIAN
BEGIN:VEVENT
UID:sabre-vobject-23ef09ba-bb4a-44ad-b2f2-25d6a8688c9c
DTSTAMP:20260421T103206Z
SUMMARY:Texas Hold 'em Tournament
DESCRIPTION:
X-ALT-DESC:FMTTYPE=text/html:<!DOCTYPE HTML PUBLIC "-//W3C//DTD HTML 3.2//E
 N"><HTML></HTML>
CREATED;TZID=America/Los_Angeles:20251001T111641
URL;VALUE=URI:https://jblm.armymwr.com/calendar/event
DTSTART;TZID=America/Los_Angeles:20251011T140000
DTEND;TZID=America/Los_Angeles:20251011T160000
SEQUENCE:0
END:VEVENT
END:VCALENDAR
