BEGIN:VCALENDAR
VERSION:2.0
PRODID:-//Sabre//Sabre VObject 4.5.8//EN
CALSCALE:GREGORIAN
BEGIN:VEVENT
UID:sabre-vobject-8d2dc811-7228-4469-ac23-4094c1549613
DTSTAMP:20260421T131401Z
SUMMARY:Open Tennis League Registration
DESCRIPTION:
X-ALT-DESC:FMTTYPE=text/html:<!DOCTYPE HTML PUBLIC "-//W3C//DTD HTML 3.2//E
 N"><HTML></HTML>
CREATED;TZID=America/Los_Angeles:20260414T093600
URL;VALUE=URI:https://jblm.armymwr.com/calendar/event
DTSTART;TZID=America/Los_Angeles:20260427T000000
DTEND;TZID=America/Los_Angeles:20260427T235959
SEQUENCE:0
END:VEVENT
END:VCALENDAR
