BEGIN:VCALENDAR
VERSION:2.0
PRODID:-//Sabre//Sabre VObject 4.5.8//EN
CALSCALE:GREGORIAN
BEGIN:VEVENT
UID:sabre-vobject-362d3d15-2ae5-4914-b427-287e297ebc9f
DTSTAMP:20260425T172426Z
SUMMARY:StoryWalk with STRONG B.A.N.D.S.
DESCRIPTION:
X-ALT-DESC:FMTTYPE=text/html:<!DOCTYPE HTML PUBLIC "-//W3C//DTD HTML 3.2//E
 N"><HTML></HTML>
CREATED;TZID=America/Los_Angeles:20260421T091844
URL;VALUE=URI:https://jblm.armymwr.com/calendar/event
DTSTART;TZID=America/Los_Angeles:20260501T000000
DTEND;TZID=America/Los_Angeles:20260501T235959
SEQUENCE:0
END:VEVENT
END:VCALENDAR
