BEGIN:VCALENDAR
VERSION:2.0
PRODID:-//Sabre//Sabre VObject 4.5.8//EN
CALSCALE:GREGORIAN
BEGIN:VEVENT
UID:sabre-vobject-c67fec6c-b023-4008-86bf-0b6607019369
DTSTAMP:20260425T131652Z
SUMMARY:Hanging Paper Lantern
DESCRIPTION:
X-ALT-DESC:FMTTYPE=text/html:<!DOCTYPE HTML PUBLIC "-//W3C//DTD HTML 3.2//E
 N"><HTML></HTML>
CREATED;TZID=America/Los_Angeles:20260421T144522
URL;VALUE=URI:https://jblm.armymwr.com/calendar/event
DTSTART;TZID=America/Los_Angeles:20260501T170000
DTEND;TZID=America/Los_Angeles:20260501T190000
SEQUENCE:0
END:VEVENT
END:VCALENDAR
