BEGIN:VCALENDAR
VERSION:2.0
PRODID:-//Sabre//Sabre VObject 4.5.8//EN
CALSCALE:GREGORIAN
BEGIN:VEVENT
UID:sabre-vobject-fd0b8e48-8b49-4628-a2f5-c7c7a12b84bf
DTSTAMP:20260421T122422Z
SUMMARY:Your JBLM Adventure!
DESCRIPTION:A welcome event &amp\; interactive bus tour of the installation
 .\n
X-ALT-DESC:FMTTYPE=text/html:<!DOCTYPE HTML PUBLIC "-//W3C//DTD HTML 3.2//E
 N"><HTML><p>A welcome event &amp\; interactive bus tour of the installatio
 n.</p>\n</HTML>
CREATED;TZID=America/Los_Angeles:20210823T131228
URL;VALUE=URI:https://jblm.armymwr.com/calendar/event
DTSTART;TZID=America/Los_Angeles:20210511T093000
DTEND;TZID=America/Los_Angeles:20210511T113000
SEQUENCE:0
END:VEVENT
BEGIN:VEVENT
UID:sabre-vobject-da16b491-8464-4d34-8b1d-2f83b2844e45
DTSTAMP:20260421T122422Z
SUMMARY:Your JBLM Adventure!
DESCRIPTION:A welcome event &amp\; interactive bus tour of the installation
 .\n
X-ALT-DESC:FMTTYPE=text/html:<!DOCTYPE HTML PUBLIC "-//W3C//DTD HTML 3.2//E
 N"><HTML><p>A welcome event &amp\; interactive bus tour of the installatio
 n.</p>\n</HTML>
CREATED;TZID=America/Los_Angeles:20210823T131228
URL;VALUE=URI:https://jblm.armymwr.com/calendar/event
DTSTART;TZID=America/Los_Angeles:20210525T093000
DTEND;TZID=America/Los_Angeles:20210525T113000
SEQUENCE:1
END:VEVENT
END:VCALENDAR
