BEGIN:VCALENDAR
VERSION:2.0
PRODID:-//Sabre//Sabre VObject 4.5.8//EN
CALSCALE:GREGORIAN
BEGIN:VEVENT
UID:sabre-vobject-92681dec-2aa6-43e3-ab35-a012df5c9e03
DTSTAMP:20260422T042809Z
SUMMARY:Lifeguard Training
DESCRIPTION:
X-ALT-DESC:FMTTYPE=text/html:<!DOCTYPE HTML PUBLIC "-//W3C//DTD HTML 3.2//E
 N"><HTML></HTML>
CREATED;TZID=America/Los_Angeles:20230706T151717
URL;VALUE=URI:https://jblm.armymwr.com/calendar/event
DTSTART;TZID=America/Los_Angeles:20230512T000000
DTEND;TZID=America/Los_Angeles:20230514T235959
SEQUENCE:0
END:VEVENT
BEGIN:VEVENT
UID:sabre-vobject-5e9df4e4-ce61-4e57-ae50-7fb8a9c11760
DTSTAMP:20260422T042809Z
SUMMARY:Lifeguard Training
DESCRIPTION:
X-ALT-DESC:FMTTYPE=text/html:<!DOCTYPE HTML PUBLIC "-//W3C//DTD HTML 3.2//E
 N"><HTML></HTML>
CREATED;TZID=America/Los_Angeles:20230706T151717
URL;VALUE=URI:https://jblm.armymwr.com/calendar/event
DTSTART;TZID=America/Los_Angeles:20230616T000000
DTEND;TZID=America/Los_Angeles:20230618T235959
SEQUENCE:1
END:VEVENT
BEGIN:VEVENT
UID:sabre-vobject-2450380a-7e82-4075-bd70-bbbe3e168d82
DTSTAMP:20260422T042809Z
SUMMARY:Lifeguard Training
DESCRIPTION:
X-ALT-DESC:FMTTYPE=text/html:<!DOCTYPE HTML PUBLIC "-//W3C//DTD HTML 3.2//E
 N"><HTML></HTML>
CREATED;TZID=America/Los_Angeles:20230706T151717
URL;VALUE=URI:https://jblm.armymwr.com/calendar/event
DTSTART;TZID=America/Los_Angeles:20230721T000000
DTEND;TZID=America/Los_Angeles:20230723T235959
SEQUENCE:2
END:VEVENT
BEGIN:VEVENT
UID:sabre-vobject-ceadf748-be2f-47a7-a0a4-12cc6b86e999
DTSTAMP:20260422T042809Z
SUMMARY:Lifeguard Training
DESCRIPTION:
X-ALT-DESC:FMTTYPE=text/html:<!DOCTYPE HTML PUBLIC "-//W3C//DTD HTML 3.2//E
 N"><HTML></HTML>
CREATED;TZID=America/Los_Angeles:20230706T151717
URL;VALUE=URI:https://jblm.armymwr.com/calendar/event
DTSTART;TZID=America/Los_Angeles:20230811T000000
DTEND;TZID=America/Los_Angeles:20230813T235959
SEQUENCE:3
END:VEVENT
BEGIN:VEVENT
UID:sabre-vobject-212b5b77-81bb-4241-974e-4e1c6c5b5f99
DTSTAMP:20260422T042809Z
SUMMARY:Lifeguard Training
DESCRIPTION:
X-ALT-DESC:FMTTYPE=text/html:<!DOCTYPE HTML PUBLIC "-//W3C//DTD HTML 3.2//E
 N"><HTML></HTML>
CREATED;TZID=America/Los_Angeles:20230706T151717
URL;VALUE=URI:https://jblm.armymwr.com/calendar/event
DTSTART;TZID=America/Los_Angeles:20230915T000000
DTEND;TZID=America/Los_Angeles:20230917T235959
SEQUENCE:4
END:VEVENT
END:VCALENDAR
