BEGIN:VCALENDAR
VERSION:2.0
PRODID:-//Sabre//Sabre VObject 4.5.8//EN
CALSCALE:GREGORIAN
BEGIN:VEVENT
UID:sabre-vobject-63b80759-1dc8-4018-8f55-163810a46e3b
DTSTAMP:20260425T172523Z
SUMMARY:Soldier Showdown 3
DESCRIPTION:
X-ALT-DESC:FMTTYPE=text/html:<!DOCTYPE HTML PUBLIC "-//W3C//DTD HTML 3.2//E
 N"><HTML></HTML>
CREATED;TZID=America/Los_Angeles:20210922T155552
URL;VALUE=URI:https://jblm.armymwr.com/calendar/event
DTSTART;TZID=America/Los_Angeles:20210925T000000
DTEND;TZID=America/Los_Angeles:20210925T235959
SEQUENCE:0
END:VEVENT
BEGIN:VEVENT
UID:sabre-vobject-1dc60287-15d1-4e96-8120-5c8d673ba9ef
DTSTAMP:20260425T172523Z
SUMMARY:Soldier Showdown 3
DESCRIPTION:
X-ALT-DESC:FMTTYPE=text/html:<!DOCTYPE HTML PUBLIC "-//W3C//DTD HTML 3.2//E
 N"><HTML></HTML>
CREATED;TZID=America/Los_Angeles:20210922T155552
URL;VALUE=URI:https://jblm.armymwr.com/calendar/event
DTSTART;TZID=America/Los_Angeles:20211002T000000
DTEND;TZID=America/Los_Angeles:20211002T235959
SEQUENCE:1
END:VEVENT
BEGIN:VEVENT
UID:sabre-vobject-9e2b588d-9a54-4159-9e82-88845c17e188
DTSTAMP:20260425T172523Z
SUMMARY:Soldier Showdown 3
DESCRIPTION:
X-ALT-DESC:FMTTYPE=text/html:<!DOCTYPE HTML PUBLIC "-//W3C//DTD HTML 3.2//E
 N"><HTML></HTML>
CREATED;TZID=America/Los_Angeles:20210922T155552
URL;VALUE=URI:https://jblm.armymwr.com/calendar/event
DTSTART;TZID=America/Los_Angeles:20211009T000000
DTEND;TZID=America/Los_Angeles:20211009T235959
SEQUENCE:2
END:VEVENT
BEGIN:VEVENT
UID:sabre-vobject-01b48eae-adee-4668-9ac6-0f026f1c2bf2
DTSTAMP:20260425T172523Z
SUMMARY:Soldier Showdown 3
DESCRIPTION:
X-ALT-DESC:FMTTYPE=text/html:<!DOCTYPE HTML PUBLIC "-//W3C//DTD HTML 3.2//E
 N"><HTML></HTML>
CREATED;TZID=America/Los_Angeles:20210922T155552
URL;VALUE=URI:https://jblm.armymwr.com/calendar/event
DTSTART;TZID=America/Los_Angeles:20211016T000000
DTEND;TZID=America/Los_Angeles:20211016T235959
SEQUENCE:3
END:VEVENT
BEGIN:VEVENT
UID:sabre-vobject-973682e0-bac6-434f-ae01-9d94ad65a932
DTSTAMP:20260425T172523Z
SUMMARY:Soldier Showdown 3
DESCRIPTION:
X-ALT-DESC:FMTTYPE=text/html:<!DOCTYPE HTML PUBLIC "-//W3C//DTD HTML 3.2//E
 N"><HTML></HTML>
CREATED;TZID=America/Los_Angeles:20210922T155552
URL;VALUE=URI:https://jblm.armymwr.com/calendar/event
DTSTART;TZID=America/Los_Angeles:20211023T000000
DTEND;TZID=America/Los_Angeles:20211023T235959
SEQUENCE:4
END:VEVENT
BEGIN:VEVENT
UID:sabre-vobject-cb449ea1-3959-48be-8c75-5c92dd2ec21d
DTSTAMP:20260425T172523Z
SUMMARY:Soldier Showdown 3
DESCRIPTION:
X-ALT-DESC:FMTTYPE=text/html:<!DOCTYPE HTML PUBLIC "-//W3C//DTD HTML 3.2//E
 N"><HTML></HTML>
CREATED;TZID=America/Los_Angeles:20210922T155552
URL;VALUE=URI:https://jblm.armymwr.com/calendar/event
DTSTART;TZID=America/Los_Angeles:20211030T000000
DTEND;TZID=America/Los_Angeles:20211030T235959
SEQUENCE:5
END:VEVENT
BEGIN:VEVENT
UID:sabre-vobject-278fcff6-bd25-4ccb-bde4-807a7895ddf6
DTSTAMP:20260425T172523Z
SUMMARY:Soldier Showdown 3
DESCRIPTION:
X-ALT-DESC:FMTTYPE=text/html:<!DOCTYPE HTML PUBLIC "-//W3C//DTD HTML 3.2//E
 N"><HTML></HTML>
CREATED;TZID=America/Los_Angeles:20210922T155552
URL;VALUE=URI:https://jblm.armymwr.com/calendar/event
DTSTART;TZID=America/Los_Angeles:20211113T000000
DTEND;TZID=America/Los_Angeles:20211113T235959
SEQUENCE:6
END:VEVENT
BEGIN:VEVENT
UID:sabre-vobject-aa004118-e052-49aa-9b59-b7b893be955e
DTSTAMP:20260425T172523Z
SUMMARY:Soldier Showdown 3
DESCRIPTION:
X-ALT-DESC:FMTTYPE=text/html:<!DOCTYPE HTML PUBLIC "-//W3C//DTD HTML 3.2//E
 N"><HTML></HTML>
CREATED;TZID=America/Los_Angeles:20210922T155552
URL;VALUE=URI:https://jblm.armymwr.com/calendar/event
DTSTART;TZID=America/Los_Angeles:20211120T000000
DTEND;TZID=America/Los_Angeles:20211120T235959
SEQUENCE:7
END:VEVENT
BEGIN:VEVENT
UID:sabre-vobject-8bc687d6-92ed-4558-87a6-754a0adb8c7e
DTSTAMP:20260425T172523Z
SUMMARY:Soldier Showdown 3
DESCRIPTION:
X-ALT-DESC:FMTTYPE=text/html:<!DOCTYPE HTML PUBLIC "-//W3C//DTD HTML 3.2//E
 N"><HTML></HTML>
CREATED;TZID=America/Los_Angeles:20210922T155552
URL;VALUE=URI:https://jblm.armymwr.com/calendar/event
DTSTART;TZID=America/Los_Angeles:20211127T000000
DTEND;TZID=America/Los_Angeles:20211127T235959
SEQUENCE:8
END:VEVENT
END:VCALENDAR
