BEGIN:VCALENDAR
VERSION:2.0
PRODID:-//Sabre//Sabre VObject 4.5.8//EN
CALSCALE:GREGORIAN
BEGIN:VEVENT
UID:sabre-vobject-953e5dc4-9c09-4c3e-a41a-a50b56dd3510
DTSTAMP:20260420T200421Z
SUMMARY:Little Explorers
DESCRIPTION:
X-ALT-DESC:FMTTYPE=text/html:<!DOCTYPE HTML PUBLIC "-//W3C//DTD HTML 3.2//E
 N"><HTML></HTML>
CREATED;TZID=America/Los_Angeles:20240603T135643
URL;VALUE=URI:https://jblm.armymwr.com/calendar/event
DTSTART;TZID=America/Los_Angeles:20230905T100000
DTEND;TZID=America/Los_Angeles:20230905T110000
SEQUENCE:0
END:VEVENT
END:VCALENDAR
