BEGIN:VCALENDAR
VERSION:2.0
PRODID:-//Sabre//Sabre VObject 4.5.8//EN
CALSCALE:GREGORIAN
BEGIN:VEVENT
UID:sabre-vobject-124053cc-737c-4bfc-80e0-5e4c91f6059c
DTSTAMP:20260423T163749Z
SUMMARY:Mount Baker Summit
DESCRIPTION:
X-ALT-DESC:FMTTYPE=text/html:<!DOCTYPE HTML PUBLIC "-//W3C//DTD HTML 3.2//E
 N"><HTML></HTML>
CREATED;TZID=America/Los_Angeles:20240228T155510
URL;VALUE=URI:https://jblm.armymwr.com/calendar/event
DTSTART;TZID=America/Los_Angeles:20240531T000000
DTEND;TZID=America/Los_Angeles:20240602T235959
SEQUENCE:0
END:VEVENT
BEGIN:VEVENT
UID:sabre-vobject-f495f519-612d-41cd-b792-115463ad88b9
DTSTAMP:20260423T163749Z
SUMMARY:Mount Baker Summit
DESCRIPTION:
X-ALT-DESC:FMTTYPE=text/html:<!DOCTYPE HTML PUBLIC "-//W3C//DTD HTML 3.2//E
 N"><HTML></HTML>
CREATED;TZID=America/Los_Angeles:20240228T155510
URL;VALUE=URI:https://jblm.armymwr.com/calendar/event
DTSTART;TZID=America/Los_Angeles:20240719T000000
DTEND;TZID=America/Los_Angeles:20240721T235959
SEQUENCE:1
END:VEVENT
BEGIN:VEVENT
UID:sabre-vobject-7a9da4cd-cba8-4a76-b447-0a5870753008
DTSTAMP:20260423T163749Z
SUMMARY:Mount Baker Summit
DESCRIPTION:
X-ALT-DESC:FMTTYPE=text/html:<!DOCTYPE HTML PUBLIC "-//W3C//DTD HTML 3.2//E
 N"><HTML></HTML>
CREATED;TZID=America/Los_Angeles:20240228T155510
URL;VALUE=URI:https://jblm.armymwr.com/calendar/event
DTSTART;TZID=America/Los_Angeles:20240802T000000
DTEND;TZID=America/Los_Angeles:20240804T235959
SEQUENCE:2
END:VEVENT
END:VCALENDAR
