BEGIN:VCALENDAR
VERSION:2.0
PRODID:-//Sabre//Sabre VObject 4.5.8//EN
CALSCALE:GREGORIAN
BEGIN:VEVENT
UID:sabre-vobject-92519d23-ce8f-4a9d-b3fb-ac569a84987f
DTSTAMP:20260424T063854Z
SUMMARY:Mother's Day Brunch
DESCRIPTION:Join us for Mother&#39\;s Day Brunch at McChord Club on Sunday\
 , May 12!\n
X-ALT-DESC:FMTTYPE=text/html:<!DOCTYPE HTML PUBLIC "-//W3C//DTD HTML 3.2//E
 N"><HTML><p>Join us for Mother&#39\;s Day Brunch at McChord Club on Sunday
 \, May 12!</p>\n</HTML>
CREATED;TZID=America/Los_Angeles:20240502T074348
URL;VALUE=URI:https://jblm.armymwr.com/calendar/event
DTSTART;TZID=America/Los_Angeles:20240512T000000
DTEND;TZID=America/Los_Angeles:20240512T235959
SEQUENCE:0
END:VEVENT
END:VCALENDAR
