BEGIN:VCALENDAR
VERSION:2.0
PRODID:-//Sabre//Sabre VObject 4.5.8//EN
CALSCALE:GREGORIAN
BEGIN:VEVENT
UID:sabre-vobject-99eace67-fbad-436c-a43a-0eee271245b0
DTSTAMP:20260421T060028Z
SUMMARY:Lifeguard Training
DESCRIPTION:Get lifeguard certified for FREE. Find out about lifeguard empl
 oyment.\n
X-ALT-DESC:FMTTYPE=text/html:<!DOCTYPE HTML PUBLIC "-//W3C//DTD HTML 3.2//E
 N"><HTML><p>Get lifeguard certified for <strong>FREE</strong>. Find out ab
 out <a href="https://jblm.armymwr.com/employment">lifeguard employment</a>
 <a href="https://www.usajobs.gov/job/829706000">.</a></p>\n</HTML>
CREATED;TZID=America/Los_Angeles:20260408T075025
URL;VALUE=URI:https://jblm.armymwr.com/calendar/event
DTSTART;TZID=America/Los_Angeles:20240510T000000
DTEND;TZID=America/Los_Angeles:20240512T235959
SEQUENCE:0
END:VEVENT
BEGIN:VEVENT
UID:sabre-vobject-892553d0-146d-46b3-897e-7963962dd6e0
DTSTAMP:20260421T060028Z
SUMMARY:Lifeguard Training
DESCRIPTION:Get lifeguard certified for FREE. Find out about lifeguard empl
 oyment.\n
X-ALT-DESC:FMTTYPE=text/html:<!DOCTYPE HTML PUBLIC "-//W3C//DTD HTML 3.2//E
 N"><HTML><p>Get lifeguard certified for <strong>FREE</strong>. Find out ab
 out <a href="https://jblm.armymwr.com/employment">lifeguard employment</a>
 <a href="https://www.usajobs.gov/job/829706000">.</a></p>\n</HTML>
CREATED;TZID=America/Los_Angeles:20260408T075025
URL;VALUE=URI:https://jblm.armymwr.com/calendar/event
DTSTART;TZID=America/Los_Angeles:20250411T000000
DTEND;TZID=America/Los_Angeles:20250413T235959
SEQUENCE:1
END:VEVENT
BEGIN:VEVENT
UID:sabre-vobject-900396c8-90fc-4195-8161-144e1129fbd8
DTSTAMP:20260421T060028Z
SUMMARY:Lifeguard Training
DESCRIPTION:Get lifeguard certified for FREE. Find out about lifeguard empl
 oyment.\n
X-ALT-DESC:FMTTYPE=text/html:<!DOCTYPE HTML PUBLIC "-//W3C//DTD HTML 3.2//E
 N"><HTML><p>Get lifeguard certified for <strong>FREE</strong>. Find out ab
 out <a href="https://jblm.armymwr.com/employment">lifeguard employment</a>
 <a href="https://www.usajobs.gov/job/829706000">.</a></p>\n</HTML>
CREATED;TZID=America/Los_Angeles:20260408T075025
URL;VALUE=URI:https://jblm.armymwr.com/calendar/event
DTSTART;TZID=America/Los_Angeles:20250502T000000
DTEND;TZID=America/Los_Angeles:20250504T235959
SEQUENCE:2
END:VEVENT
BEGIN:VEVENT
UID:sabre-vobject-34f597c2-5c1f-4beb-8883-b74d14bd9601
DTSTAMP:20260421T060028Z
SUMMARY:Lifeguard Training
DESCRIPTION:Get lifeguard certified for FREE. Find out about lifeguard empl
 oyment.\n
X-ALT-DESC:FMTTYPE=text/html:<!DOCTYPE HTML PUBLIC "-//W3C//DTD HTML 3.2//E
 N"><HTML><p>Get lifeguard certified for <strong>FREE</strong>. Find out ab
 out <a href="https://jblm.armymwr.com/employment">lifeguard employment</a>
 <a href="https://www.usajobs.gov/job/829706000">.</a></p>\n</HTML>
CREATED;TZID=America/Los_Angeles:20260408T075025
URL;VALUE=URI:https://jblm.armymwr.com/calendar/event
DTSTART;TZID=America/Los_Angeles:20250613T000000
DTEND;TZID=America/Los_Angeles:20250615T235959
SEQUENCE:3
END:VEVENT
BEGIN:VEVENT
UID:sabre-vobject-2f19c695-b731-450e-9e43-83ce6bf9111a
DTSTAMP:20260421T060028Z
SUMMARY:Lifeguard Training
DESCRIPTION:Get lifeguard certified for FREE. Find out about lifeguard empl
 oyment.\n
X-ALT-DESC:FMTTYPE=text/html:<!DOCTYPE HTML PUBLIC "-//W3C//DTD HTML 3.2//E
 N"><HTML><p>Get lifeguard certified for <strong>FREE</strong>. Find out ab
 out <a href="https://jblm.armymwr.com/employment">lifeguard employment</a>
 <a href="https://www.usajobs.gov/job/829706000">.</a></p>\n</HTML>
CREATED;TZID=America/Los_Angeles:20260408T075025
URL;VALUE=URI:https://jblm.armymwr.com/calendar/event
DTSTART;TZID=America/Los_Angeles:20250711T000000
DTEND;TZID=America/Los_Angeles:20250713T235959
SEQUENCE:4
END:VEVENT
BEGIN:VEVENT
UID:sabre-vobject-35bf7c5c-64af-48c6-ba0a-805c2b38860c
DTSTAMP:20260421T060028Z
SUMMARY:Lifeguard Training
DESCRIPTION:Get lifeguard certified for FREE. Find out about lifeguard empl
 oyment.\n
X-ALT-DESC:FMTTYPE=text/html:<!DOCTYPE HTML PUBLIC "-//W3C//DTD HTML 3.2//E
 N"><HTML><p>Get lifeguard certified for <strong>FREE</strong>. Find out ab
 out <a href="https://jblm.armymwr.com/employment">lifeguard employment</a>
 <a href="https://www.usajobs.gov/job/829706000">.</a></p>\n</HTML>
CREATED;TZID=America/Los_Angeles:20260408T075025
URL;VALUE=URI:https://jblm.armymwr.com/calendar/event
DTSTART;TZID=America/Los_Angeles:20250808T000000
DTEND;TZID=America/Los_Angeles:20250810T235959
SEQUENCE:5
END:VEVENT
BEGIN:VEVENT
UID:sabre-vobject-47804f7d-c3a8-46be-8543-388848c5015d
DTSTAMP:20260421T060028Z
SUMMARY:Lifeguard Training
DESCRIPTION:Get lifeguard certified for FREE. Find out about lifeguard empl
 oyment.\n
X-ALT-DESC:FMTTYPE=text/html:<!DOCTYPE HTML PUBLIC "-//W3C//DTD HTML 3.2//E
 N"><HTML><p>Get lifeguard certified for <strong>FREE</strong>. Find out ab
 out <a href="https://jblm.armymwr.com/employment">lifeguard employment</a>
 <a href="https://www.usajobs.gov/job/829706000">.</a></p>\n</HTML>
CREATED;TZID=America/Los_Angeles:20260408T075025
URL;VALUE=URI:https://jblm.armymwr.com/calendar/event
DTSTART;TZID=America/Los_Angeles:20250912T000000
DTEND;TZID=America/Los_Angeles:20250914T235959
SEQUENCE:6
END:VEVENT
BEGIN:VEVENT
UID:sabre-vobject-691832eb-31f6-4d4d-8e4e-d320720f86be
DTSTAMP:20260421T060028Z
SUMMARY:Lifeguard Training
DESCRIPTION:Get lifeguard certified for FREE. Find out about lifeguard empl
 oyment.\n
X-ALT-DESC:FMTTYPE=text/html:<!DOCTYPE HTML PUBLIC "-//W3C//DTD HTML 3.2//E
 N"><HTML><p>Get lifeguard certified for <strong>FREE</strong>. Find out ab
 out <a href="https://jblm.armymwr.com/employment">lifeguard employment</a>
 <a href="https://www.usajobs.gov/job/829706000">.</a></p>\n</HTML>
CREATED;TZID=America/Los_Angeles:20260408T075025
URL;VALUE=URI:https://jblm.armymwr.com/calendar/event
DTSTART;TZID=America/Los_Angeles:20250523T000000
DTEND;TZID=America/Los_Angeles:20250525T235959
SEQUENCE:7
END:VEVENT
BEGIN:VEVENT
UID:sabre-vobject-9d458c73-4b15-4d0c-945b-7a53d3a04664
DTSTAMP:20260421T060028Z
SUMMARY:Lifeguard Training
DESCRIPTION:Get lifeguard certified for FREE. Find out about lifeguard empl
 oyment.\n
X-ALT-DESC:FMTTYPE=text/html:<!DOCTYPE HTML PUBLIC "-//W3C//DTD HTML 3.2//E
 N"><HTML><p>Get lifeguard certified for <strong>FREE</strong>. Find out ab
 out <a href="https://jblm.armymwr.com/employment">lifeguard employment</a>
 <a href="https://www.usajobs.gov/job/829706000">.</a></p>\n</HTML>
CREATED;TZID=America/Los_Angeles:20260408T075025
URL;VALUE=URI:https://jblm.armymwr.com/calendar/event
DTSTART;TZID=America/Los_Angeles:20250725T000000
DTEND;TZID=America/Los_Angeles:20250727T235959
SEQUENCE:8
END:VEVENT
BEGIN:VEVENT
UID:sabre-vobject-5f14894b-7fa4-43aa-b82e-e1b98ee0078f
DTSTAMP:20260421T060028Z
SUMMARY:Lifeguard Training
DESCRIPTION:Get lifeguard certified for FREE. Find out about lifeguard empl
 oyment.\n
X-ALT-DESC:FMTTYPE=text/html:<!DOCTYPE HTML PUBLIC "-//W3C//DTD HTML 3.2//E
 N"><HTML><p>Get lifeguard certified for <strong>FREE</strong>. Find out ab
 out <a href="https://jblm.armymwr.com/employment">lifeguard employment</a>
 <a href="https://www.usajobs.gov/job/829706000">.</a></p>\n</HTML>
CREATED;TZID=America/Los_Angeles:20260408T075025
URL;VALUE=URI:https://jblm.armymwr.com/calendar/event
DTSTART;TZID=America/Los_Angeles:20251011T000000
DTEND;TZID=America/Los_Angeles:20251012T235959
SEQUENCE:9
END:VEVENT
BEGIN:VEVENT
UID:sabre-vobject-9a8979fd-5e18-481b-92bb-98dd2507e3bf
DTSTAMP:20260421T060028Z
SUMMARY:Lifeguard Training
DESCRIPTION:Get lifeguard certified for FREE. Find out about lifeguard empl
 oyment.\n
X-ALT-DESC:FMTTYPE=text/html:<!DOCTYPE HTML PUBLIC "-//W3C//DTD HTML 3.2//E
 N"><HTML><p>Get lifeguard certified for <strong>FREE</strong>. Find out ab
 out <a href="https://jblm.armymwr.com/employment">lifeguard employment</a>
 <a href="https://www.usajobs.gov/job/829706000">.</a></p>\n</HTML>
CREATED;TZID=America/Los_Angeles:20260408T075025
URL;VALUE=URI:https://jblm.armymwr.com/calendar/event
DTSTART;TZID=America/Los_Angeles:20251018T000000
DTEND;TZID=America/Los_Angeles:20251019T235959
SEQUENCE:10
END:VEVENT
BEGIN:VEVENT
UID:sabre-vobject-e2f93efd-9ebd-40de-a5b7-519e59550551
DTSTAMP:20260421T060028Z
SUMMARY:Lifeguard Training
DESCRIPTION:Get lifeguard certified for FREE. Find out about lifeguard empl
 oyment.\n
X-ALT-DESC:FMTTYPE=text/html:<!DOCTYPE HTML PUBLIC "-//W3C//DTD HTML 3.2//E
 N"><HTML><p>Get lifeguard certified for <strong>FREE</strong>. Find out ab
 out <a href="https://jblm.armymwr.com/employment">lifeguard employment</a>
 <a href="https://www.usajobs.gov/job/829706000">.</a></p>\n</HTML>
CREATED;TZID=America/Los_Angeles:20260408T075025
URL;VALUE=URI:https://jblm.armymwr.com/calendar/event
DTSTART;TZID=America/Los_Angeles:20251115T000000
DTEND;TZID=America/Los_Angeles:20251116T235959
SEQUENCE:11
END:VEVENT
BEGIN:VEVENT
UID:sabre-vobject-9d40db2b-0145-4794-9bb1-2e59cceaf9ad
DTSTAMP:20260421T060028Z
SUMMARY:Lifeguard Training
DESCRIPTION:Get lifeguard certified for FREE. Find out about lifeguard empl
 oyment.\n
X-ALT-DESC:FMTTYPE=text/html:<!DOCTYPE HTML PUBLIC "-//W3C//DTD HTML 3.2//E
 N"><HTML><p>Get lifeguard certified for <strong>FREE</strong>. Find out ab
 out <a href="https://jblm.armymwr.com/employment">lifeguard employment</a>
 <a href="https://www.usajobs.gov/job/829706000">.</a></p>\n</HTML>
CREATED;TZID=America/Los_Angeles:20260408T075025
URL;VALUE=URI:https://jblm.armymwr.com/calendar/event
DTSTART;TZID=America/Los_Angeles:20251122T000000
DTEND;TZID=America/Los_Angeles:20251123T235959
SEQUENCE:12
END:VEVENT
BEGIN:VEVENT
UID:sabre-vobject-a5a35d7b-89d3-4dc3-bbd0-7e86da6e7e2d
DTSTAMP:20260421T060028Z
SUMMARY:Lifeguard Training
DESCRIPTION:Get lifeguard certified for FREE. Find out about lifeguard empl
 oyment.\n
X-ALT-DESC:FMTTYPE=text/html:<!DOCTYPE HTML PUBLIC "-//W3C//DTD HTML 3.2//E
 N"><HTML><p>Get lifeguard certified for <strong>FREE</strong>. Find out ab
 out <a href="https://jblm.armymwr.com/employment">lifeguard employment</a>
 <a href="https://www.usajobs.gov/job/829706000">.</a></p>\n</HTML>
CREATED;TZID=America/Los_Angeles:20260408T075025
URL;VALUE=URI:https://jblm.armymwr.com/calendar/event
DTSTART;TZID=America/Los_Angeles:20251229T000000
DTEND;TZID=America/Los_Angeles:20251231T235959
SEQUENCE:13
END:VEVENT
BEGIN:VEVENT
UID:sabre-vobject-49290164-747f-478a-9915-6a7d70af1425
DTSTAMP:20260421T060028Z
SUMMARY:Lifeguard Training
DESCRIPTION:Get lifeguard certified for FREE. Find out about lifeguard empl
 oyment.\n
X-ALT-DESC:FMTTYPE=text/html:<!DOCTYPE HTML PUBLIC "-//W3C//DTD HTML 3.2//E
 N"><HTML><p>Get lifeguard certified for <strong>FREE</strong>. Find out ab
 out <a href="https://jblm.armymwr.com/employment">lifeguard employment</a>
 <a href="https://www.usajobs.gov/job/829706000">.</a></p>\n</HTML>
CREATED;TZID=America/Los_Angeles:20260408T075025
URL;VALUE=URI:https://jblm.armymwr.com/calendar/event
DTSTART;TZID=America/Los_Angeles:20260110T000000
DTEND;TZID=America/Los_Angeles:20260111T235959
SEQUENCE:14
END:VEVENT
BEGIN:VEVENT
UID:sabre-vobject-6a0a8b91-3ee5-407c-954f-8b4e72b3d009
DTSTAMP:20260421T060028Z
SUMMARY:Lifeguard Training
DESCRIPTION:Get lifeguard certified for FREE. Find out about lifeguard empl
 oyment.\n
X-ALT-DESC:FMTTYPE=text/html:<!DOCTYPE HTML PUBLIC "-//W3C//DTD HTML 3.2//E
 N"><HTML><p>Get lifeguard certified for <strong>FREE</strong>. Find out ab
 out <a href="https://jblm.armymwr.com/employment">lifeguard employment</a>
 <a href="https://www.usajobs.gov/job/829706000">.</a></p>\n</HTML>
CREATED;TZID=America/Los_Angeles:20260408T075025
URL;VALUE=URI:https://jblm.armymwr.com/calendar/event
DTSTART;TZID=America/Los_Angeles:20260214T000000
DTEND;TZID=America/Los_Angeles:20260215T235959
SEQUENCE:15
END:VEVENT
BEGIN:VEVENT
UID:sabre-vobject-65eb95b4-1cb3-412a-a0e7-76d6ff18efca
DTSTAMP:20260421T060028Z
SUMMARY:Lifeguard Training
DESCRIPTION:Get lifeguard certified for FREE. Find out about lifeguard empl
 oyment.\n
X-ALT-DESC:FMTTYPE=text/html:<!DOCTYPE HTML PUBLIC "-//W3C//DTD HTML 3.2//E
 N"><HTML><p>Get lifeguard certified for <strong>FREE</strong>. Find out ab
 out <a href="https://jblm.armymwr.com/employment">lifeguard employment</a>
 <a href="https://www.usajobs.gov/job/829706000">.</a></p>\n</HTML>
CREATED;TZID=America/Los_Angeles:20260408T075025
URL;VALUE=URI:https://jblm.armymwr.com/calendar/event
DTSTART;TZID=America/Los_Angeles:20260320T000000
DTEND;TZID=America/Los_Angeles:20260322T235959
SEQUENCE:16
END:VEVENT
BEGIN:VEVENT
UID:sabre-vobject-73890c35-b81f-4355-9e94-937bf51fa3e0
DTSTAMP:20260421T060028Z
SUMMARY:Lifeguard Training
DESCRIPTION:Get lifeguard certified for FREE. Find out about lifeguard empl
 oyment.\n
X-ALT-DESC:FMTTYPE=text/html:<!DOCTYPE HTML PUBLIC "-//W3C//DTD HTML 3.2//E
 N"><HTML><p>Get lifeguard certified for <strong>FREE</strong>. Find out ab
 out <a href="https://jblm.armymwr.com/employment">lifeguard employment</a>
 <a href="https://www.usajobs.gov/job/829706000">.</a></p>\n</HTML>
CREATED;TZID=America/Los_Angeles:20260408T075025
URL;VALUE=URI:https://jblm.armymwr.com/calendar/event
DTSTART;TZID=America/Los_Angeles:20260403T000000
DTEND;TZID=America/Los_Angeles:20260405T235959
SEQUENCE:17
END:VEVENT
BEGIN:VEVENT
UID:sabre-vobject-e70634e6-8720-4e37-a5bb-880e4589cd72
DTSTAMP:20260421T060028Z
SUMMARY:Lifeguard Training
DESCRIPTION:Get lifeguard certified for FREE. Find out about lifeguard empl
 oyment.\n
X-ALT-DESC:FMTTYPE=text/html:<!DOCTYPE HTML PUBLIC "-//W3C//DTD HTML 3.2//E
 N"><HTML><p>Get lifeguard certified for <strong>FREE</strong>. Find out ab
 out <a href="https://jblm.armymwr.com/employment">lifeguard employment</a>
 <a href="https://www.usajobs.gov/job/829706000">.</a></p>\n</HTML>
CREATED;TZID=America/Los_Angeles:20260408T075025
URL;VALUE=URI:https://jblm.armymwr.com/calendar/event
DTSTART;TZID=America/Los_Angeles:20260501T000000
DTEND;TZID=America/Los_Angeles:20260503T235959
SEQUENCE:18
END:VEVENT
BEGIN:VEVENT
UID:sabre-vobject-0b47df86-59cc-4bbe-a639-801ac3d0f52f
DTSTAMP:20260421T060028Z
SUMMARY:Lifeguard Training
DESCRIPTION:Get lifeguard certified for FREE. Find out about lifeguard empl
 oyment.\n
X-ALT-DESC:FMTTYPE=text/html:<!DOCTYPE HTML PUBLIC "-//W3C//DTD HTML 3.2//E
 N"><HTML><p>Get lifeguard certified for <strong>FREE</strong>. Find out ab
 out <a href="https://jblm.armymwr.com/employment">lifeguard employment</a>
 <a href="https://www.usajobs.gov/job/829706000">.</a></p>\n</HTML>
CREATED;TZID=America/Los_Angeles:20260408T075025
URL;VALUE=URI:https://jblm.armymwr.com/calendar/event
DTSTART;TZID=America/Los_Angeles:20260612T000000
DTEND;TZID=America/Los_Angeles:20260614T235959
SEQUENCE:19
END:VEVENT
BEGIN:VEVENT
UID:sabre-vobject-e6e13d74-9480-4770-8451-e572e6682889
DTSTAMP:20260421T060028Z
SUMMARY:Lifeguard Training
DESCRIPTION:Get lifeguard certified for FREE. Find out about lifeguard empl
 oyment.\n
X-ALT-DESC:FMTTYPE=text/html:<!DOCTYPE HTML PUBLIC "-//W3C//DTD HTML 3.2//E
 N"><HTML><p>Get lifeguard certified for <strong>FREE</strong>. Find out ab
 out <a href="https://jblm.armymwr.com/employment">lifeguard employment</a>
 <a href="https://www.usajobs.gov/job/829706000">.</a></p>\n</HTML>
CREATED;TZID=America/Los_Angeles:20260408T075025
URL;VALUE=URI:https://jblm.armymwr.com/calendar/event
DTSTART;TZID=America/Los_Angeles:20260710T000000
DTEND;TZID=America/Los_Angeles:20260712T235959
SEQUENCE:20
END:VEVENT
BEGIN:VEVENT
UID:sabre-vobject-df2e8f63-90d3-4fa2-a61f-ea3451e6084b
DTSTAMP:20260421T060028Z
SUMMARY:Lifeguard Training
DESCRIPTION:Get lifeguard certified for FREE. Find out about lifeguard empl
 oyment.\n
X-ALT-DESC:FMTTYPE=text/html:<!DOCTYPE HTML PUBLIC "-//W3C//DTD HTML 3.2//E
 N"><HTML><p>Get lifeguard certified for <strong>FREE</strong>. Find out ab
 out <a href="https://jblm.armymwr.com/employment">lifeguard employment</a>
 <a href="https://www.usajobs.gov/job/829706000">.</a></p>\n</HTML>
CREATED;TZID=America/Los_Angeles:20260408T075025
URL;VALUE=URI:https://jblm.armymwr.com/calendar/event
DTSTART;TZID=America/Los_Angeles:20260808T000000
DTEND;TZID=America/Los_Angeles:20260809T235959
SEQUENCE:21
END:VEVENT
END:VCALENDAR
