BEGIN:VCALENDAR
VERSION:2.0
PRODID:-//Sabre//Sabre VObject 4.5.8//EN
CALSCALE:GREGORIAN
BEGIN:VEVENT
UID:sabre-vobject-0af64306-8a03-4b49-bb6a-6da044aff9f0
DTSTAMP:20260420T185116Z
SUMMARY:Family Advocacy Program - Family Adventure Walk
DESCRIPTION:Easy\, family-friendly nature walk.\n
X-ALT-DESC:FMTTYPE=text/html:<!DOCTYPE HTML PUBLIC "-//W3C//DTD HTML 3.2//E
 N"><HTML><p>Easy\, family-friendly nature walk.</p>\n</HTML>
CREATED;TZID=America/Los_Angeles:20250304T103604
URL;VALUE=URI:https://jblm.armymwr.com/calendar/event
DTSTART;TZID=America/Los_Angeles:20250405T093000
DTEND;TZID=America/Los_Angeles:20250405T120000
SEQUENCE:0
END:VEVENT
END:VCALENDAR
