BEGIN:VCALENDAR
VERSION:2.0
PRODID:-//Sabre//Sabre VObject 4.5.8//EN
CALSCALE:GREGORIAN
BEGIN:VEVENT
UID:sabre-vobject-7c1c7793-a2ee-471f-9ea2-563deef2abc5
DTSTAMP:20260420T033440Z
SUMMARY:Pressed Library Bookmarks
DESCRIPTION:
X-ALT-DESC:FMTTYPE=text/html:<!DOCTYPE HTML PUBLIC "-//W3C//DTD HTML 3.2//E
 N"><HTML></HTML>
CREATED;TZID=America/Los_Angeles:20250313T163139
URL;VALUE=URI:https://jblm.armymwr.com/calendar/event
DTSTART;TZID=America/Los_Angeles:20250321T150000
DTEND;TZID=America/Los_Angeles:20250321T160000
SEQUENCE:0
END:VEVENT
END:VCALENDAR
