BEGIN:VCALENDAR
VERSION:2.0
PRODID:-//Sabre//Sabre VObject 4.5.8//EN
CALSCALE:GREGORIAN
BEGIN:VEVENT
UID:sabre-vobject-37cb4a84-13e3-4641-a63d-6e6e102eae99
DTSTAMP:20260424T065122Z
SUMMARY:Dungeons & Dragons One-Shot: Moon over Graymoor
DESCRIPTION:
X-ALT-DESC:FMTTYPE=text/html:<!DOCTYPE HTML PUBLIC "-//W3C//DTD HTML 3.2//E
 N"><HTML></HTML>
CREATED;TZID=America/Los_Angeles:20250514T135324
URL;VALUE=URI:https://jblm.armymwr.com/calendar/event
DTSTART;TZID=America/Los_Angeles:20250606T180000
DTEND;TZID=America/Los_Angeles:20250606T200000
SEQUENCE:0
END:VEVENT
END:VCALENDAR
