BEGIN:VCALENDAR
VERSION:2.0
PRODID:-//Sabre//Sabre VObject 4.5.8//EN
CALSCALE:GREGORIAN
BEGIN:VEVENT
UID:sabre-vobject-95c77bcc-b7a2-4333-99de-8f2a9d3245d8
DTSTAMP:20260423T122918Z
SUMMARY:The Complete Federal Résumé
DESCRIPTION:This class is designed to equip job seekers with the skills to 
 craft compelling federal r&eacute\;sum&eacute\;s.\n
X-ALT-DESC:FMTTYPE=text/html:<!DOCTYPE HTML PUBLIC "-//W3C//DTD HTML 3.2//E
 N"><HTML><p>This class is designed to equip job seekers with the skills to
  craft compelling federal r&eacute\;sum&eacute\;s.</p>\n</HTML>
CREATED;TZID=America/Los_Angeles:20250515T083839
URL;VALUE=URI:https://jblm.armymwr.com/calendar/event
DTSTART;TZID=America/Los_Angeles:20250618T090000
DTEND;TZID=America/Los_Angeles:20250618T120000
SEQUENCE:0
END:VEVENT
END:VCALENDAR
